0.5
0
0
-0.5
566317.507251489
4747328.9644875
