0.5
0
0
-0.5
634116.582993495
4762219.52286114
