0.5
0
0
-0.5
623968.243805111
4759711.77027132
