0.5
0
0
-0.5
640958.614490256
4760044.05469606
