0.5
0
0
-0.5
630809.11811684
4757526.24678575
