0.5
0
0
-0.5
641151.352535655
4750790.65853493
