0.5
0
0
-0.5
637842.610216085
4746094.10668292
