0.5
0
0
-0.5
671656.677058812
4756122.74213781
