0.5
0
0
-0.5
668428.747796003
4749097.55421894
