0.5
0
0
-0.5
675295.871185734
4746956.18684996
