0.5
0
0
-0.5
569769.290694386
4742736.60251693
