0.5
0
0
-0.5
580014.642819739
4740536.73704133
