0.5
0
0
-0.5
569817.330593698
4738109.80684772
