0.5
0
0
-0.5
569865.335929566
4733483.05318267
