0.5
0
0
-0.5
590359.229836898
4731411.98734101
