0.5
0
0
-0.5
607234.863858269
4743227.24836465
