0.5
0
0
-0.5
593643.111606925
4740711.73052404
