0.5
0
0
-0.5
603864.353979965
4740860.81250963
