0.5
0
0
-0.5
593834.733460156
4726831.62239908
