0.5
0
0
-0.5
624264.851305755
4743517.9085841
