0.5
0
0
-0.5
641391.665538688
4739224.03312194
