0.5
0
0
-0.5
665137.539037014
4744387.47315294
