0.5
0
0
-0.5
655025.079049682
4739520.66560397
