0.5
0
0
-0.5
661951.683206434
4735052.40052748
