0.5
0
0
-0.5
576974.435699758
4708110.80176794
