0.5
0
0
-0.5
604111.998756246
4724667.42738471
