0.5
0
0
-0.5
597314.810038262
4722253.04064977
