0.5
0
0
-0.5
617892.094399832
4717949.88166778
