0.5
0
0
-0.5
593994.218378267
4715265.26220936
