0.5
0
0
-0.5
628104.791698652
4720447.77044301
