0.5
0
0
-0.5
631611.131459456
4715885.95871627
