0.5
0
0
-0.5
651976.505900347
4723250.69925972
