0.5
0
0
-0.5
549623.61954878
4703229.69075911
