0.5
0
0
-0.5
607818.443324295
4706214.23658026
