0.5
0
0
-0.5
608000.027927554
4694648.26701397
