0.5
0
0
-0.5
614898.394588251
4692446.08736287
