0.5
0
0
-0.5
628709.046177424
4688061.77682113
