0.5
0
0
-0.5
628752.086853835
4685748.56964258
