0.5
0
0
-0.5
594723.419178639
4662062.61465628
