0.5
0
0
-0.5
598169.233599407
4662110.47499368
