0.5
0
0
-0.5
618883.430523028
4660120.08444164
