0.5
0
0
-0.5
598267.232662745
4655171.23936602
