1
0
0
-1
647658.965438853
4762598.22819745
