1
0
0
-1
648169.170208609
4739465.02786799
