1
0
0
-1
655093.3912881
4734991.73875582
