1
0
0
-1
559875.072504579
4701073.11409343
