1
0
0
-1
600999.759725334
4701567.75372258
