1
0
0
-1
601276.246654728
4683062.45537177
