1
0
0
-1
594468.387303801
4678337.0141267
