1
0
0
-1
615098.970512574
4678654.63543624
